BEGIN:VCALENDAR
VERSION:2.0
PRODID:-//SDM Foundation - ECPv6.15.18//NONSGML v1.0//EN
CALSCALE:GREGORIAN
METHOD:PUBLISH
X-WR-CALNAME:SDM Foundation
X-ORIGINAL-URL:https://www.sdmfoundation.org
X-WR-CALDESC:Events for SDM Foundation
REFRESH-INTERVAL;VALUE=DURATION:PT1H
X-Robots-Tag:noindex
X-PUBLISHED-TTL:PT1H
BEGIN:VTIMEZONE
TZID:America/New_York
BEGIN:DAYLIGHT
TZOFFSETFROM:-0500
TZOFFSETTO:-0400
TZNAME:EDT
DTSTART:20250309T070000
END:DAYLIGHT
BEGIN:STANDARD
TZOFFSETFROM:-0400
TZOFFSETTO:-0500
TZNAME:EST
DTSTART:20251102T060000
END:STANDARD
BEGIN:DAYLIGHT
TZOFFSETFROM:-0500
TZOFFSETTO:-0400
TZNAME:EDT
DTSTART:20260308T070000
END:DAYLIGHT
BEGIN:STANDARD
TZOFFSETFROM:-0400
TZOFFSETTO:-0500
TZNAME:EST
DTSTART:20261101T060000
END:STANDARD
BEGIN:DAYLIGHT
TZOFFSETFROM:-0500
TZOFFSETTO:-0400
TZNAME:EDT
DTSTART:20270314T070000
END:DAYLIGHT
BEGIN:STANDARD
TZOFFSETFROM:-0400
TZOFFSETTO:-0500
TZNAME:EST
DTSTART:20271107T060000
END:STANDARD
BEGIN:DAYLIGHT
TZOFFSETFROM:-0500
TZOFFSETTO:-0400
TZNAME:EDT
DTSTART:20280312T070000
END:DAYLIGHT
BEGIN:STANDARD
TZOFFSETFROM:-0400
TZOFFSETTO:-0500
TZNAME:EST
DTSTART:20281105T060000
END:STANDARD
END:VTIMEZONE
BEGIN:VEVENT
DTSTART;TZID=America/New_York:20260425T130000
DTEND;TZID=America/New_York:20260425T143000
DTSTAMP:20260423T064207
CREATED:20260323T064200Z
LAST-MODIFIED:20260422T132204Z
UID:10001813-1777122000-1777127400@www.sdmfoundation.org
SUMMARY:Digital Art - Elementary and Middle School
DESCRIPTION:In this lesson students will learn to draw a complex picture on an iPad using different drawing and coloring techniques.  \n\n\n\nWe use the Procreate program on iPads\, with Apple pencils. Procreate includes the ability to add animation to pictures and this technique will also be introduced.  SDM will provide all equipment needed. \n\n\n\nStudents’ completed pictures can be emailed to them at the conclusion of the lesson. There is no minimum age recommendation\, as no reading or math are required. Competence in using a computer is required. This lesson can be taken more than once as the drawing is directed by the student. \n\n\n\nAfter online registration closes\, please contact SDM for space availability.  \n\n\n\nThis topic can also be taught at any time in individual sessions. Please call for more information. \n\n\n\nCancellation must be at least 48 hours before the lesson begins to avoid further appointment restrictions.
URL:https://www.sdmfoundation.org/event/digital-art-elementary-and-middle-school-4/
LOCATION:The SDM Shop\, 406 Main Street\, Melrose\, MA\, 02176\, United States
CATEGORIES:Photo Video Art
ATTACH;FMTTYPE=image/jpeg:https://www.sdmfoundation.org/wp-content/uploads/2020/02/Collaborative-Drawing-e1592319393615.jpg
GEO:42.4533612;-71.0666997
X-APPLE-STRUCTURED-LOCATION;VALUE=URI;X-ADDRESS=The SDM Shop 406 Main Street Melrose MA 02176 United States;X-APPLE-RADIUS=500;X-TITLE=406 Main Street:geo:-71.0666997,42.4533612
END:VEVENT
BEGIN:VEVENT
DTSTART;TZID=America/New_York:20260426T090000
DTEND;TZID=America/New_York:20260502T160000
DTSTAMP:20260423T064207
CREATED:20250814T153450Z
LAST-MODIFIED:20250814T153453Z
UID:10001753-1777194000-1777737600@www.sdmfoundation.org
SUMMARY:Appointments Available Monday through Saturday at 9\, 10\, 11\, 1\, 2 and 3
DESCRIPTION:SDM offers individual 50 minute appointments Monday through Saturday at 9:00 am\, 10:00 am\, 11:00 am\, 1:00 pm\, 2:00 pm and 3:00 pm. Call or email if you would like to make an appointment. We will teach any topic\, any time; appointments can be in our shop\, or remotely via phone or Zoom. For more information about what we do\, see our About Us page.
URL:https://www.sdmfoundation.org/event/appointments-available-monday-through-saturday-at-9-10-11-1-2-and-3-9/
LOCATION:The SDM Shop\, 406 Main Street\, Melrose\, MA\, 02176\, United States
ATTACH;FMTTYPE=image/jpeg:https://www.sdmfoundation.org/wp-content/uploads/2020/12/logo_redesign_12_2020-08.jpg
GEO:42.4533612;-71.0666997
X-APPLE-STRUCTURED-LOCATION;VALUE=URI;X-ADDRESS=The SDM Shop 406 Main Street Melrose MA 02176 United States;X-APPLE-RADIUS=500;X-TITLE=406 Main Street:geo:-71.0666997,42.4533612
END:VEVENT
BEGIN:VEVENT
DTSTART;TZID=America/New_York:20260507T100000
DTEND;TZID=America/New_York:20260507T110000
DTSTAMP:20260423T064207
CREATED:20251023T184611Z
LAST-MODIFIED:20260422T125705Z
UID:10001777-1778148000-1778151600@www.sdmfoundation.org
SUMMARY:ShopTalks@SDM - Photography: Editing and Organizing Photos
DESCRIPTION:Welcome to ShopTalks@SDM group discussions. Advanced registration is required. Group size is limited.  \n\n\n\nEach meeting will cover a particular topic with a short presentation followed by open discussions.  \n\n\n\nOur May ShopTalk will be given by Raj Das. Raj Das is a local photographer\, also known as ED Photography. Having years of experience\, he has tried various methods of editing/organizing photos\, and has been through the trials and errors of many different tools. Join our May ShopTalk to learn from an expert! \n\n\n\nOnline registration closes on Sunday of the week prior to the lesson. After that time\, please contact SDM for availability. This topic can also be discussed at any time in individual sessions. Please call for more information. Cancellation must be at least 48 hours before the lesson begins to avoid further appointment restrictions.
URL:https://www.sdmfoundation.org/event/shoptalkssdm-editing-photos/
LOCATION:The SDM Shop\, 406 Main Street\, Melrose\, MA\, 02176\, United States
CATEGORIES:ShopTalk@SDM
ATTACH;FMTTYPE=image/jpeg:https://www.sdmfoundation.org/wp-content/uploads/2024/02/ShopTalksSDM.jpg
GEO:42.4533612;-71.0666997
X-APPLE-STRUCTURED-LOCATION;VALUE=URI;X-ADDRESS=The SDM Shop 406 Main Street Melrose MA 02176 United States;X-APPLE-RADIUS=500;X-TITLE=406 Main Street:geo:-71.0666997,42.4533612
END:VEVENT
BEGIN:VEVENT
DTSTART;TZID=America/New_York:20260521T100000
DTEND;TZID=America/New_York:20260521T110000
DTSTAMP:20260423T064207
CREATED:20251023T191836Z
LAST-MODIFIED:20260422T125849Z
UID:10001780-1779357600-1779361200@www.sdmfoundation.org
SUMMARY:Small Business - Social Media and Tech Topics
DESCRIPTION:Welcome to our Small Business Tech and Social Media group discussions. Advanced registration is required. Group size is limited.  \n\n\n\nSome meetings cover a particular topic and others are open discussions.  \n\n\n\nOnline registration closes on Sunday of the week prior to the lesson. After that time\, please contact SDM for availability. This topic can also be taught at any time in individual sessions. Please call for more information. Cancellation must be at least 48 hours before the lesson begins to avoid further appointment restrictions. \n\n\n\nThese sessions are often held on the 2nd floor\, so please let us know if you need accommodation.
URL:https://www.sdmfoundation.org/event/small-business-social-media-and-tech-topics-4/
LOCATION:The SDM Shop\, 406 Main Street\, Melrose\, MA\, 02176\, United States
CATEGORIES:Small Business
ATTACH;FMTTYPE=image/jpeg:https://www.sdmfoundation.org/wp-content/uploads/2023/10/Small-Business-Meetings-Featured-Image.jpg
GEO:42.4533612;-71.0666997
X-APPLE-STRUCTURED-LOCATION;VALUE=URI;X-ADDRESS=The SDM Shop 406 Main Street Melrose MA 02176 United States;X-APPLE-RADIUS=500;X-TITLE=406 Main Street:geo:-71.0666997,42.4533612
END:VEVENT
BEGIN:VEVENT
DTSTART;TZID=America/New_York:20260525T090000
DTEND;TZID=America/New_York:20260525T160000
DTSTAMP:20260423T064207
CREATED:20251023T194055Z
LAST-MODIFIED:20251023T194058Z
UID:10001790-1779699600-1779724800@www.sdmfoundation.org
SUMMARY:CLOSED
DESCRIPTION:SDM will be closed all day.
URL:https://www.sdmfoundation.org/event/closed-3/
LOCATION:MA
ATTACH;FMTTYPE=image/jpeg:https://www.sdmfoundation.org/wp-content/uploads/2021/01/cropped-Artboard-1-copy@4x-100.jpg
END:VEVENT
BEGIN:VEVENT
DTSTART;TZID=America/New_York:20260531T090000
DTEND;TZID=America/New_York:20260606T160000
DTSTAMP:20260423T064207
CREATED:20250814T153531Z
LAST-MODIFIED:20250814T153534Z
UID:10001754-1780218000-1780761600@www.sdmfoundation.org
SUMMARY:Appointments Available Monday through Saturday at 9\, 10\, 11\, 1\, 2 and 3
DESCRIPTION:SDM offers individual 50 minute appointments Monday through Saturday at 9:00 am\, 10:00 am\, 11:00 am\, 1:00 pm\, 2:00 pm and 3:00 pm. Call or email if you would like to make an appointment. We will teach any topic\, any time; appointments can be in our shop\, or remotely via phone or Zoom. For more information about what we do\, see our About Us page.
URL:https://www.sdmfoundation.org/event/appointments-available-monday-through-saturday-at-9-10-11-1-2-and-3-10/
LOCATION:The SDM Shop\, 406 Main Street\, Melrose\, MA\, 02176\, United States
ATTACH;FMTTYPE=image/jpeg:https://www.sdmfoundation.org/wp-content/uploads/2020/12/logo_redesign_12_2020-08.jpg
GEO:42.4533612;-71.0666997
X-APPLE-STRUCTURED-LOCATION;VALUE=URI;X-ADDRESS=The SDM Shop 406 Main Street Melrose MA 02176 United States;X-APPLE-RADIUS=500;X-TITLE=406 Main Street:geo:-71.0666997,42.4533612
END:VEVENT
BEGIN:VEVENT
DTSTART;TZID=America/New_York:20260628T090000
DTEND;TZID=America/New_York:20260704T160000
DTSTAMP:20260423T064207
CREATED:20250814T153601Z
LAST-MODIFIED:20250814T153605Z
UID:10001755-1782637200-1783180800@www.sdmfoundation.org
SUMMARY:Appointments Available Monday through Saturday at 9\, 10\, 11\, 1\, 2 and 3
DESCRIPTION:SDM offers individual 50 minute appointments Monday through Saturday at 9:00 am\, 10:00 am\, 11:00 am\, 1:00 pm\, 2:00 pm and 3:00 pm. Call or email if you would like to make an appointment. We will teach any topic\, any time; appointments can be in our shop\, or remotely via phone or Zoom. For more information about what we do\, see our About Us page.
URL:https://www.sdmfoundation.org/event/appointments-available-monday-through-saturday-at-9-10-11-1-2-and-3-11/
LOCATION:The SDM Shop\, 406 Main Street\, Melrose\, MA\, 02176\, United States
ATTACH;FMTTYPE=image/jpeg:https://www.sdmfoundation.org/wp-content/uploads/2020/12/logo_redesign_12_2020-08.jpg
GEO:42.4533612;-71.0666997
X-APPLE-STRUCTURED-LOCATION;VALUE=URI;X-ADDRESS=The SDM Shop 406 Main Street Melrose MA 02176 United States;X-APPLE-RADIUS=500;X-TITLE=406 Main Street:geo:-71.0666997,42.4533612
END:VEVENT
BEGIN:VEVENT
DTSTART;TZID=America/New_York:20260704T090000
DTEND;TZID=America/New_York:20260704T160000
DTSTAMP:20260423T064207
CREATED:20241220T154118Z
LAST-MODIFIED:20241220T154122Z
UID:10001534-1783155600-1783180800@www.sdmfoundation.org
SUMMARY:CLOSED
DESCRIPTION:SDM will be closed all day.
URL:https://www.sdmfoundation.org/event/closed-7/2026-07-04/
LOCATION:MA
ATTACH;FMTTYPE=image/jpeg:https://www.sdmfoundation.org/wp-content/uploads/2021/01/cropped-Artboard-1-copy@4x-100.jpg
END:VEVENT
BEGIN:VEVENT
DTSTART;TZID=America/New_York:20260726T090000
DTEND;TZID=America/New_York:20260801T160000
DTSTAMP:20260423T064207
CREATED:20250814T153645Z
LAST-MODIFIED:20250814T153648Z
UID:10001756-1785056400-1785600000@www.sdmfoundation.org
SUMMARY:Appointments Available Monday through Saturday at 9\, 10\, 11\, 1\, 2 and 3
DESCRIPTION:SDM offers individual 50 minute appointments Monday through Saturday at 9:00 am\, 10:00 am\, 11:00 am\, 1:00 pm\, 2:00 pm and 3:00 pm. Call or email if you would like to make an appointment. We will teach any topic\, any time; appointments can be in our shop\, or remotely via phone or Zoom. For more information about what we do\, see our About Us page.
URL:https://www.sdmfoundation.org/event/appointments-available-monday-through-saturday-at-9-10-11-1-2-and-3-12/
LOCATION:The SDM Shop\, 406 Main Street\, Melrose\, MA\, 02176\, United States
ATTACH;FMTTYPE=image/jpeg:https://www.sdmfoundation.org/wp-content/uploads/2020/12/logo_redesign_12_2020-08.jpg
GEO:42.4533612;-71.0666997
X-APPLE-STRUCTURED-LOCATION;VALUE=URI;X-ADDRESS=The SDM Shop 406 Main Street Melrose MA 02176 United States;X-APPLE-RADIUS=500;X-TITLE=406 Main Street:geo:-71.0666997,42.4533612
END:VEVENT
BEGIN:VEVENT
DTSTART;TZID=America/New_York:20260830T090000
DTEND;TZID=America/New_York:20260905T160000
DTSTAMP:20260423T064207
CREATED:20250814T153739Z
LAST-MODIFIED:20250814T153741Z
UID:10001757-1788080400-1788624000@www.sdmfoundation.org
SUMMARY:Appointments Available Monday through Saturday at 9\, 10\, 11\, 1\, 2 and 3
DESCRIPTION:SDM offers individual 50 minute appointments Monday through Saturday at 9:00 am\, 10:00 am\, 11:00 am\, 1:00 pm\, 2:00 pm and 3:00 pm. Call or email if you would like to make an appointment. We will teach any topic\, any time; appointments can be in our shop\, or remotely via phone or Zoom. For more information about what we do\, see our About Us page.
URL:https://www.sdmfoundation.org/event/appointments-available-monday-through-saturday-at-9-10-11-1-2-and-3-19/
LOCATION:The SDM Shop\, 406 Main Street\, Melrose\, MA\, 02176\, United States
ATTACH;FMTTYPE=image/jpeg:https://www.sdmfoundation.org/wp-content/uploads/2020/12/logo_redesign_12_2020-08.jpg
GEO:42.4533612;-71.0666997
X-APPLE-STRUCTURED-LOCATION;VALUE=URI;X-ADDRESS=The SDM Shop 406 Main Street Melrose MA 02176 United States;X-APPLE-RADIUS=500;X-TITLE=406 Main Street:geo:-71.0666997,42.4533612
END:VEVENT
BEGIN:VEVENT
DTSTART;TZID=America/New_York:20260927T090000
DTEND;TZID=America/New_York:20261003T160000
DTSTAMP:20260423T064207
CREATED:20250814T153819Z
LAST-MODIFIED:20250814T153823Z
UID:10001758-1790499600-1791043200@www.sdmfoundation.org
SUMMARY:Appointments Available Monday through Saturday at 9\, 10\, 11\, 1\, 2 and 3
DESCRIPTION:SDM offers individual 50 minute appointments Monday through Saturday at 9:00 am\, 10:00 am\, 11:00 am\, 1:00 pm\, 2:00 pm and 3:00 pm. Call or email if you would like to make an appointment. We will teach any topic\, any time; appointments can be in our shop\, or remotely via phone or Zoom. For more information about what we do\, see our About Us page.
URL:https://www.sdmfoundation.org/event/appointments-available-monday-through-saturday-at-9-10-11-1-2-and-3-20/
LOCATION:The SDM Shop\, 406 Main Street\, Melrose\, MA\, 02176\, United States
ATTACH;FMTTYPE=image/jpeg:https://www.sdmfoundation.org/wp-content/uploads/2020/12/logo_redesign_12_2020-08.jpg
GEO:42.4533612;-71.0666997
X-APPLE-STRUCTURED-LOCATION;VALUE=URI;X-ADDRESS=The SDM Shop 406 Main Street Melrose MA 02176 United States;X-APPLE-RADIUS=500;X-TITLE=406 Main Street:geo:-71.0666997,42.4533612
END:VEVENT
BEGIN:VEVENT
DTSTART;TZID=America/New_York:20261101T090000
DTEND;TZID=America/New_York:20261107T160000
DTSTAMP:20260423T064207
CREATED:20250814T154123Z
LAST-MODIFIED:20250814T154126Z
UID:10001760-1793523600-1794067200@www.sdmfoundation.org
SUMMARY:Appointments Available Monday through Saturday at 9\, 10\, 11\, 1\, 2 and 3
DESCRIPTION:SDM offers individual 50 minute appointments Monday through Saturday at 9:00 am\, 10:00 am\, 11:00 am\, 1:00 pm\, 2:00 pm and 3:00 pm. Call or email if you would like to make an appointment. We will teach any topic\, any time; appointments can be in our shop\, or remotely via phone or Zoom. For more information about what we do\, see our About Us page.
URL:https://www.sdmfoundation.org/event/appointments-available-monday-through-saturday-at-9-10-11-1-2-and-3-21/
LOCATION:The SDM Shop\, 406 Main Street\, Melrose\, MA\, 02176\, United States
ATTACH;FMTTYPE=image/jpeg:https://www.sdmfoundation.org/wp-content/uploads/2020/12/logo_redesign_12_2020-08.jpg
GEO:42.4533612;-71.0666997
X-APPLE-STRUCTURED-LOCATION;VALUE=URI;X-ADDRESS=The SDM Shop 406 Main Street Melrose MA 02176 United States;X-APPLE-RADIUS=500;X-TITLE=406 Main Street:geo:-71.0666997,42.4533612
END:VEVENT
BEGIN:VEVENT
DTSTART;TZID=America/New_York:20261129T090000
DTEND;TZID=America/New_York:20261205T160000
DTSTAMP:20260423T064207
CREATED:20250814T154155Z
LAST-MODIFIED:20250814T154158Z
UID:10001761-1795942800-1796486400@www.sdmfoundation.org
SUMMARY:Appointments Available Monday through Saturday at 9\, 10\, 11\, 1\, 2 and 3
DESCRIPTION:SDM offers individual 50 minute appointments Monday through Saturday at 9:00 am\, 10:00 am\, 11:00 am\, 1:00 pm\, 2:00 pm and 3:00 pm. Call or email if you would like to make an appointment. We will teach any topic\, any time; appointments can be in our shop\, or remotely via phone or Zoom. For more information about what we do\, see our About Us page.
URL:https://www.sdmfoundation.org/event/appointments-available-monday-through-saturday-at-9-10-11-1-2-and-3-22/
LOCATION:The SDM Shop\, 406 Main Street\, Melrose\, MA\, 02176\, United States
ATTACH;FMTTYPE=image/jpeg:https://www.sdmfoundation.org/wp-content/uploads/2020/12/logo_redesign_12_2020-08.jpg
GEO:42.4533612;-71.0666997
X-APPLE-STRUCTURED-LOCATION;VALUE=URI;X-ADDRESS=The SDM Shop 406 Main Street Melrose MA 02176 United States;X-APPLE-RADIUS=500;X-TITLE=406 Main Street:geo:-71.0666997,42.4533612
END:VEVENT
BEGIN:VEVENT
DTSTART;TZID=America/New_York:20261227T090000
DTEND;TZID=America/New_York:20270102T160000
DTSTAMP:20260423T064207
CREATED:20250814T154226Z
LAST-MODIFIED:20250814T154231Z
UID:10001762-1798362000-1798905600@www.sdmfoundation.org
SUMMARY:Appointments Available Monday through Saturday at 9\, 10\, 11\, 1\, 2 and 3
DESCRIPTION:SDM offers individual 50 minute appointments Monday through Saturday at 9:00 am\, 10:00 am\, 11:00 am\, 1:00 pm\, 2:00 pm and 3:00 pm. Call or email if you would like to make an appointment. We will teach any topic\, any time; appointments can be in our shop\, or remotely via phone or Zoom. For more information about what we do\, see our About Us page.
URL:https://www.sdmfoundation.org/event/appointments-available-monday-through-saturday-at-9-10-11-1-2-and-3-23/
LOCATION:The SDM Shop\, 406 Main Street\, Melrose\, MA\, 02176\, United States
ATTACH;FMTTYPE=image/jpeg:https://www.sdmfoundation.org/wp-content/uploads/2020/12/logo_redesign_12_2020-08.jpg
GEO:42.4533612;-71.0666997
X-APPLE-STRUCTURED-LOCATION;VALUE=URI;X-ADDRESS=The SDM Shop 406 Main Street Melrose MA 02176 United States;X-APPLE-RADIUS=500;X-TITLE=406 Main Street:geo:-71.0666997,42.4533612
END:VEVENT
END:VCALENDAR